BEGIN:VCALENDAR
VERSION:2.0
PRODID:-//https://parents.ecolemosaic.ch///NONSGML kigkonsult.se iCalcreator 2.10.15//
METHOD:PUBLISH
BEGIN:VEVENT
UID:20260423T214617CEST-1472emMIin@https://parents.ecolemosaic.ch/
DTSTAMP:20260423T194617Z
DESCRIPTION: https://parents.ecolemosaic.ch/fr/component/rseventspro/event/
 21-vente-de-goûters-snack-sale-3p
DTSTART:20200206T160000Z
DTEND:20200206T170000Z
LOCATION:Playground ()
SUMMARY:Vente de goûters / Snack sale (3P)
URL:https://parents.ecolemosaic.ch/fr/component/rseventspro/event/21-vente-
 de-goûters-snack-sale-3p
END:VEVENT
END:VCALENDAR
